BEGIN:VCALENDAR
VERSION:2.0
PRODID:-// - ECPv6.3.5//NONSGML v1.0//EN
CALSCALE:GREGORIAN
METHOD:PUBLISH
X-ORIGINAL-URL:https://geseker-modellverein.de
X-WR-CALDESC:Veranstaltungen für 
REFRESH-INTERVAL;VALUE=DURATION:PT1H
X-Robots-Tag:noindex
X-PUBLISHED-TTL:PT1H
BEGIN:VTIMEZONE
TZID:Europe/Berlin
BEGIN:DAYLIGHT
TZOFFSETFROM:+0100
TZOFFSETTO:+0200
TZNAME:CEST
DTSTART:20180325T010000
END:DAYLIGHT
BEGIN:STANDARD
TZOFFSETFROM:+0200
TZOFFSETTO:+0100
TZNAME:CET
DTSTART:20181028T010000
END:STANDARD
END:VTIMEZONE
BEGIN:VEVENT
DTSTART;TZID=Europe/Berlin:20180310T100000
DTEND;TZID=Europe/Berlin:20180310T200000
DTSTAMP:20260425T210411
CREATED:20180120T160157Z
LAST-MODIFIED:20180120T160157Z
UID:7928-1520676000-1520712000@geseker-modellverein.de
SUMMARY:Frühjahrsfliegen in Oerlinghausen
DESCRIPTION:Hallo Modellflugfreunde\, \nam 10. März 2018 jährt sich das Frühjahrsfliegen in Oerlinghausen zum 11. mal und eröffnet damit die Flugsaison 2018 auf dem größten Segelflugplatz Europas. \nDie Asphaltpiste von ca. 20x900m ist eine optimale Voraussetzung für alle Modellflugarten.\nDer Platz ist für Modelle bis 150kg zugelassen.\nBeginn ist um 10:00 Uhr und Ende um ca. 18:00 Uhr.\nAlle fliegenden Piloten erhalten am Samstag eine Verzehrmarke für Kaffee und Brötchen.\nEine Anmeldung als Pilot im Voraus ist nicht erforderlich. \nFür das leibliche Wohl ist selbstverständlich gesorgt. \nBereits am Freitag den 9. März 2018 können Piloten anreisen und im Wohnmobil-/wagen auf dem Flugplatzgelände übernachten. \nAm Freitagabend laden wir in unserem Vereinsheim zur gemütlichen Runde ein. Modelle können in den Flugzeughallen untergestellt werden. \nWir freuen uns über alle Piloten und Zuschauer! \nDeshalb leitet bitte die Mail auch an eure Vereinskameraden weiter. \nBis bald\neure MODELLBAUGRUPPE vom Segelflugverein Oerlinghausen
URL:https://geseker-modellverein.de/event/fruehjahrsfliegen-in-oerlinghausen/
END:VEVENT
END:VCALENDAR